BEGIN:VCALENDAR
VERSION:2.0
PRODID:-//Jüdische Kultur Sachsen-Anhalt - ECPv6.15.20//NONSGML v1.0//EN
CALSCALE:GREGORIAN
METHOD:PUBLISH
X-ORIGINAL-URL:https://jkt-sachsen-anhalt.de
X-WR-CALDESC:Veranstaltungen für Jüdische Kultur Sachsen-Anhalt
REFRESH-INTERVAL;VALUE=DURATION:PT1H
X-Robots-Tag:noindex
X-PUBLISHED-TTL:PT1H
BEGIN:VTIMEZONE
TZID:Europe/Berlin
BEGIN:DAYLIGHT
TZOFFSETFROM:+0100
TZOFFSETTO:+0200
TZNAME:CEST
DTSTART:20240331T010000
END:DAYLIGHT
BEGIN:STANDARD
TZOFFSETFROM:+0200
TZOFFSETTO:+0100
TZNAME:CET
DTSTART:20241027T010000
END:STANDARD
BEGIN:DAYLIGHT
TZOFFSETFROM:+0100
TZOFFSETTO:+0200
TZNAME:CEST
DTSTART:20250330T010000
END:DAYLIGHT
BEGIN:STANDARD
TZOFFSETFROM:+0200
TZOFFSETTO:+0100
TZNAME:CET
DTSTART:20251026T010000
END:STANDARD
BEGIN:DAYLIGHT
TZOFFSETFROM:+0100
TZOFFSETTO:+0200
TZNAME:CEST
DTSTART:20260329T010000
END:DAYLIGHT
BEGIN:STANDARD
TZOFFSETFROM:+0200
TZOFFSETTO:+0100
TZNAME:CET
DTSTART:20261025T010000
END:STANDARD
END:VTIMEZONE
BEGIN:VEVENT
DTSTART;TZID=Europe/Berlin:20250911T190000
DTEND;TZID=Europe/Berlin:20250911T210000
DTSTAMP:20260419T154736
CREATED:20250812T073335Z
LAST-MODIFIED:20250812T073337Z
UID:10000180-1757617200-1757624400@jkt-sachsen-anhalt.de
SUMMARY:„Die Liebe zum Hass“
DESCRIPTION:Lesung mit Abdel-Hakim Ourghi\, Islamwissenschaftler\,Pädagogische Hochschule Freiburg\, Autor des aktuellenBuches „Die Liebe zum Hass“.In der Lesereihe „Für Israel lesen!“ stellen drei hochkarätige Autorenim Mai\, Juni und September ihre Perspektive auf die Entwicklungenseit dem 7. Oktober 2023 vor. Dabei geht es um die Situation in Israel\,um die internationalen Reaktionen auf die Lage im Nahen Osten undum die Reflektion dieser Situation in Deutschland. Wie agiert diePolitik\, wie diskutiert die Öffentlichkeit\, wie stark oder schwach istdie praktische Solidarität mit dem Land\, dem wir aufgrund unserereigenen Geschichte besonders verpflichtet sind?Alle Informationen zur Anmeldung finden Sie hier \n\n\n\nzu weiteren Informationen und zur Anmeldung
URL:https://jkt-sachsen-anhalt.de/veranstaltung/die-liebe-zum-hass/
LOCATION:Berend Lehmann Museum\, Rosenwinkel 18\, Halberstadt\, 38820\, Deutschland
ATTACH;FMTTYPE=image/png:https://jkt-sachsen-anhalt.de/wp-content/uploads/2025/08/Buch.png
END:VEVENT
BEGIN:VEVENT
DTSTART;TZID=Europe/Berlin:20250806T100000
DTEND;TZID=Europe/Berlin:20250806T120000
DTSTAMP:20260419T154736
CREATED:20250729T104417Z
LAST-MODIFIED:20250729T104418Z
UID:10000176-1754474400-1754481600@jkt-sachsen-anhalt.de
SUMMARY:GEMEINSAM ESSEN UND REDEN - EIN VORMITTAG ZUM SCHABBAT
DESCRIPTION:Feienangebot \n\n\n\n\n\nFERIENANGEBOT \n\n\n\n \n\n\n\nKennst du den jüdischen Ruhetag Schabbat? Wie an vielen jüdischen Feiertagen ist auch hier das gemeinsame Essen wichtig. Wir backen zusammen leckere Challa-Brote und genießen sie anschließend im Garten. Außerdem sprechen wir darüber\, was den Schabbat so besonders macht und welche Traditionen es gibt. \n\n\n\n \n\n\n\nMi\, 06.08.2025\, 10-12 Uhr \n\n\n\nWer? Kinder von 5-12 Jahren Wo: Berend Lehmann Museum\, Rosenwinkel 18\, 38820 Halber
URL:https://jkt-sachsen-anhalt.de/veranstaltung/gemeinsam-essen-und-reden-ein-vormittag-zum-schabbat-2/
LOCATION:Berend Lehmann Museum\, Rosenwinkel 18\, Halberstadt\, 38820\, Deutschland
ATTACH;FMTTYPE=image/jpeg:https://jkt-sachsen-anhalt.de/wp-content/uploads/2025/07/Ferienangebot-2025-BLM-Instagram-Post-45-1.jpg
END:VEVENT
BEGIN:VEVENT
DTSTART;TZID=Europe/Berlin:20250731T100000
DTEND;TZID=Europe/Berlin:20250731T120000
DTSTAMP:20260419T154736
CREATED:20250729T103957Z
LAST-MODIFIED:20250729T104039Z
UID:10000175-1753956000-1753963200@jkt-sachsen-anhalt.de
SUMMARY:GEMEINSAM ESSEN UND REDEN - EIN VORMITTAG ZUM SCHABBAT
DESCRIPTION:FERIENANGEBOT \n\n\n\n \n\n\n\nKennst du den jüdischen Ruhetag Schabbat? Wie an vielen jüdischen Feiertagen ist auch hier das gemeinsame Essen wichtig. Wir backen zusammen leckere Challa-Brote und genießen sie anschließend im Garten. Außerdem sprechen wir darüber\, was den Schabbat so besonders macht und welche Traditionen es gibt. \n\n\n\nDo\, 31.07.2025\, 10-12 Uhr \n\n\n\n \n\n\n\nWer? Kinder von 5-12 Jahren Wo: Berend Lehmann Museum\, Rosenwinkel 18\, 38820 Halberstadt
URL:https://jkt-sachsen-anhalt.de/veranstaltung/gemeinsam-essen-und-reden-ein-vormittag-zum-schabbat/
LOCATION:Berend Lehmann Museum\, Rosenwinkel 18\, Halberstadt\, 38820\, Deutschland
ATTACH;FMTTYPE=image/jpeg:https://jkt-sachsen-anhalt.de/wp-content/uploads/2025/07/Ferienangebot-2025-BLM-Instagram-Post-45-1.jpg
END:VEVENT
END:VCALENDAR