BEGIN:VCALENDAR
VERSION:2.0
PRODID:-//Jüdische Kultur Sachsen-Anhalt - ECPv6.15.20//NONSGML v1.0//EN
CALSCALE:GREGORIAN
METHOD:PUBLISH
X-WR-CALNAME:Jüdische Kultur Sachsen-Anhalt
X-ORIGINAL-URL:https://jkt-sachsen-anhalt.de
X-WR-CALDESC:Veranstaltungen für Jüdische Kultur Sachsen-Anhalt
REFRESH-INTERVAL;VALUE=DURATION:PT1H
X-Robots-Tag:noindex
X-PUBLISHED-TTL:PT1H
BEGIN:VTIMEZONE
TZID:Europe/Berlin
BEGIN:DAYLIGHT
TZOFFSETFROM:+0100
TZOFFSETTO:+0200
TZNAME:CEST
DTSTART:20250330T010000
END:DAYLIGHT
BEGIN:STANDARD
TZOFFSETFROM:+0200
TZOFFSETTO:+0100
TZNAME:CET
DTSTART:20251026T010000
END:STANDARD
BEGIN:DAYLIGHT
TZOFFSETFROM:+0100
TZOFFSETTO:+0200
TZNAME:CEST
DTSTART:20260329T010000
END:DAYLIGHT
BEGIN:STANDARD
TZOFFSETFROM:+0200
TZOFFSETTO:+0100
TZNAME:CET
DTSTART:20261025T010000
END:STANDARD
BEGIN:DAYLIGHT
TZOFFSETFROM:+0100
TZOFFSETTO:+0200
TZNAME:CEST
DTSTART:20270328T010000
END:DAYLIGHT
BEGIN:STANDARD
TZOFFSETFROM:+0200
TZOFFSETTO:+0100
TZNAME:CET
DTSTART:20271031T010000
END:STANDARD
END:VTIMEZONE
BEGIN:VEVENT
DTSTART;TZID=Europe/Berlin:20260503T000000
DTEND;TZID=Europe/Berlin:20260503T235959
DTSTAMP:20260421T224755
CREATED:20260421T124218Z
LAST-MODIFIED:20260421T124330Z
UID:10000254-1777766400-1777852799@jkt-sachsen-anhalt.de
SUMMARY:Ein Abend mit Natalja Gromova:„Das Leben von Jewgeni Schwarz in der Epoche des Drachen“
DESCRIPTION:Die Synagogen-Gemeinde Dessau lädt zu einem besonderen literarischen Abend mit der renommierten Schriftstellerin und Literaturhistorikerin Natalja Gromova ein.Gromova ist Prosaautorin\, Professorin des Freien Universitätsprojekts und bis 2022 wissenschaftliche Mitarbeiterin des Staatlichen Literaturmuseums in Moskau. Sie ist Autorin zahlreicher dokumentarischer Bücher über die Evakuation sowjetischer Schriftsteller sowie über Marina Zwetajewa\, Olga Berggolz\, Boris Pasternak und viele andere. Ihre Werke waren Finalisten der Literaturpreise „Russischer Booker“ und „Bolschaja Kniga“\, zudem ist sie Trägerin des Preises „Venets“ des Moskauer Schriftstellerverbands. Seit 2022 lebt sie in Israel.Der Abend widmet sich dem Leben und Werk des großen Dramatikers Jewgeni Schwarz\, insbesondere seiner berühmten Allegorie „Der Drache“. Die Veranstaltung umfasst:– persönliche Erzählungen und literaturhistorische Einblicke von Natalja Gromova;– seltene Illustrationen und Archivmaterial;– Filmausschnitte;– Fragmente aus der unveröffentlichten ersten Fassung des „Drachen“.Ein Abend\, der Literatur\, Geschichte und Gegenwart miteinander verbindet und neue Perspektiven auf einen der bedeutendsten Autoren des 20. Jahrhunderts eröffnet. \n\n\n\nAnmeldung erforderlichGemdessau@gmx.de
URL:https://jkt-sachsen-anhalt.de/veranstaltung/ein-abend-mit-natalja-gromovadas-leben-von-jewgeni-schwarz-in-der-epoche-des-drachen/
LOCATION:Adresse: Jüdische Gemeinde zu Dessau\, K.d.ö.R. Kantorstraße 3 06842 Dessau-Roßlau
ATTACH;FMTTYPE=image/jpeg:https://jkt-sachsen-anhalt.de/wp-content/uploads/2026/04/photo_2026-04-20_13-38-59.jpg
END:VEVENT
END:VCALENDAR