BEGIN:VCALENDAR
VERSION:2.0
PRODID:-//Jüdische Kultur Sachsen-Anhalt - ECPv6.15.20//NONSGML v1.0//EN
CALSCALE:GREGORIAN
METHOD:PUBLISH
X-WR-CALNAME:Jüdische Kultur Sachsen-Anhalt
X-ORIGINAL-URL:https://jkt-sachsen-anhalt.de
X-WR-CALDESC:Veranstaltungen für Jüdische Kultur Sachsen-Anhalt
REFRESH-INTERVAL;VALUE=DURATION:PT1H
X-Robots-Tag:noindex
X-PUBLISHED-TTL:PT1H
BEGIN:VTIMEZONE
TZID:Europe/Berlin
BEGIN:DAYLIGHT
TZOFFSETFROM:+0100
TZOFFSETTO:+0200
TZNAME:CEST
DTSTART:20220327T010000
END:DAYLIGHT
BEGIN:STANDARD
TZOFFSETFROM:+0200
TZOFFSETTO:+0100
TZNAME:CET
DTSTART:20221030T010000
END:STANDARD
BEGIN:DAYLIGHT
TZOFFSETFROM:+0100
TZOFFSETTO:+0200
TZNAME:CEST
DTSTART:20230326T010000
END:DAYLIGHT
BEGIN:STANDARD
TZOFFSETFROM:+0200
TZOFFSETTO:+0100
TZNAME:CET
DTSTART:20231029T010000
END:STANDARD
BEGIN:DAYLIGHT
TZOFFSETFROM:+0100
TZOFFSETTO:+0200
TZNAME:CEST
DTSTART:20240331T010000
END:DAYLIGHT
BEGIN:STANDARD
TZOFFSETFROM:+0200
TZOFFSETTO:+0100
TZNAME:CET
DTSTART:20241027T010000
END:STANDARD
END:VTIMEZONE
BEGIN:VEVENT
DTSTART;TZID=Europe/Berlin:20231027T160000
DTEND;TZID=Europe/Berlin:20231027T170000
DTSTAMP:20260420T215844
CREATED:20230920T202630Z
LAST-MODIFIED:20230920T202716Z
UID:10000135-1698422400-1698426000@jkt-sachsen-anhalt.de
SUMMARY:Konzert in Senioreneinrichtung
DESCRIPTION:Neben den üblichen Konzerten sollen bei den Jüdischen Kulturtagen Sachsen-Anhalt auch Senior:innen in Senioreneinrichtungen auf ihre Kosten kommen. Das Duo Noirinski bestehend aus Leonid Norinsky (Knopfakkordeon\, Gesang) und Ina Norinska (Percussion\, Gesang\, Tanz) gestaltet ein musikalisches Programm. \n\n\n\nDas Konzert findet als geschlossene Veranstaltung in der Senioreneinrichtung statt.
URL:https://jkt-sachsen-anhalt.de/veranstaltung/konzert-in-senioreneinrichtung-12/
LOCATION:Altenhilfezentrum St. Antonius\, Tie 25-27\, Aschersleben\, 06449
CATEGORIES:Konzert
ATTACH;FMTTYPE=image/jpeg:https://jkt-sachsen-anhalt.de/wp-content/uploads/2023/09/Foto-Duo-Norinski.jpg
END:VEVENT
BEGIN:VEVENT
DTSTART;TZID=Europe/Berlin:20231026T180000
DTEND;TZID=Europe/Berlin:20231026T190000
DTSTAMP:20260420T215844
CREATED:20230920T202334Z
LAST-MODIFIED:20230920T202430Z
UID:10000134-1698343200-1698346800@jkt-sachsen-anhalt.de
SUMMARY:Konzert in Senioreneinrichtung
DESCRIPTION:Neben den üblichen Konzerten sollen bei den Jüdischen Kulturtagen Sachsen-Anhalt auch Senior:innen in Senioreneinrichtungen auf ihre Kosten kommen. Das Duo Noirinski bestehend aus Leonid Norinsky (Knopfakkordeon\, Gesang) und Ina Norinska (Percussion\, Gesang\, Tanz) gestaltet ein musikalisches Programm. \n\n\n\nDas Konzert findet als geschlossene Veranstaltung in der Senioreneinrichtung statt.
URL:https://jkt-sachsen-anhalt.de/veranstaltung/konzert-in-senioreneinrichtung-11/
LOCATION:Wohneinrichtung Törten\, Kreuzbergstraße 250\, Dessau-Roßlau\, 06849
CATEGORIES:Konzert
ATTACH;FMTTYPE=image/jpeg:https://jkt-sachsen-anhalt.de/wp-content/uploads/2023/09/Foto-Duo-Norinski.jpg
END:VEVENT
BEGIN:VEVENT
DTSTART;TZID=Europe/Berlin:20231026T153000
DTEND;TZID=Europe/Berlin:20231026T163000
DTSTAMP:20260420T215844
CREATED:20230920T202124Z
LAST-MODIFIED:20230920T202125Z
UID:10000133-1698334200-1698337800@jkt-sachsen-anhalt.de
SUMMARY:Konzert in Senioreneinrichtung
DESCRIPTION:Neben den üblichen Konzerten sollen bei den Jüdischen Kulturtagen Sachsen-Anhalt auch Senior:innen in Senioreneinrichtungen auf ihre Kosten kommen. Das Duo Noirinski bestehend aus Leonid Norinsky (Knopfakkordeon\, Gesang) und Ina Norinska (Percussion\, Gesang\, Tanz) gestaltet ein musikalisches Programm. \n\n\n\nDas Konzert findet als geschlossene Veranstaltung in der Senioreneinrichtung statt.
URL:https://jkt-sachsen-anhalt.de/veranstaltung/konzert-in-senioreneinrichtung-10/
LOCATION:Caritas Altenpflegeheim St. Vinzenz\, Große Ritterstraße 58\, Zörbig\, 06780
CATEGORIES:Konzert
ATTACH;FMTTYPE=image/jpeg:https://jkt-sachsen-anhalt.de/wp-content/uploads/2023/09/Foto-Duo-Norinski.jpg
END:VEVENT
BEGIN:VEVENT
DTSTART;TZID=Europe/Berlin:20231025T160000
DTEND;TZID=Europe/Berlin:20231025T170000
DTSTAMP:20260420T215844
CREATED:20230920T201917Z
LAST-MODIFIED:20230920T201918Z
UID:10000132-1698249600-1698253200@jkt-sachsen-anhalt.de
SUMMARY:Konzert in Senioreneinrichtung
DESCRIPTION:Neben den üblichen Konzerten sollen bei den Jüdischen Kulturtagen Sachsen-Anhalt auch Senior:innen in Senioreneinrichtungen auf ihre Kosten kommen. Das Duo Noirinski bestehend aus Leonid Norinsky (Knopfakkordeon\, Gesang) und Ina Norinska (Percussion\, Gesang\, Tanz) gestaltet ein musikalisches Programm. \n\n\n\nDas Konzert findet als geschlossene Veranstaltung in der Senioreneinrichtung statt.
URL:https://jkt-sachsen-anhalt.de/veranstaltung/konzert-in-senioreneinrichtung-9/
LOCATION:Altenpflegeheim “ Haus Krähenstieg“\, Krähenstieg 9\, Magdeburg\, 39126
CATEGORIES:Konzert
ATTACH;FMTTYPE=image/jpeg:https://jkt-sachsen-anhalt.de/wp-content/uploads/2023/09/Foto-Duo-Norinski.jpg
END:VEVENT
BEGIN:VEVENT
DTSTART;TZID=Europe/Berlin:20231025T143000
DTEND;TZID=Europe/Berlin:20231025T153000
DTSTAMP:20260420T215844
CREATED:20230920T201654Z
LAST-MODIFIED:20230920T201655Z
UID:10000131-1698244200-1698247800@jkt-sachsen-anhalt.de
SUMMARY:Konzert in Senioreneinrichtung
DESCRIPTION:Neben den üblichen Konzerten sollen bei den Jüdischen Kulturtagen Sachsen-Anhalt auch Senior:innen in Senioreneinrichtungen auf ihre Kosten kommen. Das Duo Noirinski bestehend aus Leonid Norinsky (Knopfakkordeon\, Gesang) und Ina Norinska (Percussion\, Gesang\, Tanz) gestaltet ein musikalisches Programm. \n\n\n\nDas Konzert findet als geschlossene Veranstaltung in der Senioreneinrichtung statt.
URL:https://jkt-sachsen-anhalt.de/veranstaltung/konzert-in-senioreneinrichtung-8/
LOCATION:AWO Seniorenzentrum Reform – Hilde-Ollenhauer-Haus\, Sojusstraße 1\, Magdeburg\, 39118
CATEGORIES:Konzert
ATTACH;FMTTYPE=image/jpeg:https://jkt-sachsen-anhalt.de/wp-content/uploads/2023/09/Foto-Duo-Norinski.jpg
END:VEVENT
BEGIN:VEVENT
DTSTART;TZID=Europe/Berlin:20231024T160000
DTEND;TZID=Europe/Berlin:20231024T170000
DTSTAMP:20260420T215844
CREATED:20230920T201406Z
LAST-MODIFIED:20230920T201407Z
UID:10000130-1698163200-1698166800@jkt-sachsen-anhalt.de
SUMMARY:Konzert in Senioreneinrichtung
DESCRIPTION:Neben den üblichen Konzerten sollen bei den Jüdischen Kulturtagen Sachsen-Anhalt auch Senior:innen in Senioreneinrichtungen auf ihre Kosten kommen. Das Duo Noirinski bestehend aus Leonid Norinsky (Knopfakkordeon\, Gesang) und Ina Norinska (Percussion\, Gesang\, Tanz) gestaltet ein musikalisches Programm. \n\n\n\nDas Konzert findet als geschlossene Veranstaltung in der Senioreneinrichtung statt.
URL:https://jkt-sachsen-anhalt.de/veranstaltung/konzert-in-senioreneinrichtung-7/
LOCATION:AWO Seniorenzentrum Naumburg – August-Reinstein-Haus\, Othmarsplatz 3\, Naumburg\, 06618
CATEGORIES:Konzert
ATTACH;FMTTYPE=image/jpeg:https://jkt-sachsen-anhalt.de/wp-content/uploads/2023/09/Foto-Duo-Norinski.jpg
END:VEVENT
BEGIN:VEVENT
DTSTART;TZID=Europe/Berlin:20231023T180000
DTEND;TZID=Europe/Berlin:20231023T190000
DTSTAMP:20260420T215844
CREATED:20231023T165623Z
LAST-MODIFIED:20231023T170509Z
UID:10000143-1698084000-1698087600@jkt-sachsen-anhalt.de
SUMMARY:Konzert Yuri Zemskiy und Alexander Goldenberg
DESCRIPTION:Eine Premiere vergessener Musik. Neben bekannten Komponisten wie Viktor Ullmann\, Alexander von Zemlinsky oder Mordechai Gebirtig gab es eine große Zahl an Musiker und Komponisten\, deren Leben durch die Shoah ausgelöscht oder durch sie beeinflusst wurde. Erleben Sie mit\, wir ihre Werke neu entdecken\, interpretieren und Gefühle\, Geist\, Trauer und Humor musikalisch verbinden. Kantor Yuri Zemski\, begleitet von Pianist und Arrangeur Alexander Goldenberg\, präsentiert einen nachdenklichen\, anrührenden und humorvollen Abend.
URL:https://jkt-sachsen-anhalt.de/veranstaltung/konzert-yuri-zemskiy-und-alexander-goldenberg/
LOCATION:Auditorium Maximum\, Collegienstraße 62\, Lutherstadt Wittenberg\, 06886\, Deutschland
END:VEVENT
BEGIN:VEVENT
DTSTART;TZID=Europe/Berlin:20231023T163000
DTEND;TZID=Europe/Berlin:20231023T173000
DTSTAMP:20260420T215844
CREATED:20230920T201118Z
LAST-MODIFIED:20230920T201119Z
UID:10000129-1698078600-1698082200@jkt-sachsen-anhalt.de
SUMMARY:Konzert in Senioreneinrichtung
DESCRIPTION:Neben den üblichen Konzerten sollen bei den Jüdischen Kulturtagen Sachsen-Anhalt auch Senior:innen in Senioreneinrichtungen auf ihre Kosten kommen. Das Duo Noirinski bestehend aus Leonid Norinsky (Knopfakkordeon\, Gesang) und Ina Norinska (Percussion\, Gesang\, Tanz) gestaltet ein musikalisches Programm. \n\n\n\nDas Konzert findet als geschlossene Veranstaltung in der Senioreneinrichtung statt.
URL:https://jkt-sachsen-anhalt.de/veranstaltung/konzert-in-senioreneinrichtung-6/
LOCATION:Eisleben Caritas-Pflegeheim St. Mechthild\, Lindenstraße 38\, Lutherstadt Eisleben\, 06295
CATEGORIES:Konzert
ATTACH;FMTTYPE=image/jpeg:https://jkt-sachsen-anhalt.de/wp-content/uploads/2023/09/Foto-Duo-Norinski.jpg
END:VEVENT
BEGIN:VEVENT
DTSTART;TZID=Europe/Berlin:20231023T150000
DTEND;TZID=Europe/Berlin:20231023T160000
DTSTAMP:20260420T215844
CREATED:20230920T200911Z
LAST-MODIFIED:20230920T200912Z
UID:10000128-1698073200-1698076800@jkt-sachsen-anhalt.de
SUMMARY:Konzert in Senioreneinrichtung
DESCRIPTION:Neben den üblichen Konzerten sollen bei den Jüdischen Kulturtagen Sachsen-Anhalt auch Senior:innen in Senioreneinrichtungen auf ihre Kosten kommen. Das Duo Noirinski bestehend aus Leonid Norinsky (Knopfakkordeon\, Gesang) und Ina Norinska (Percussion\, Gesang\, Tanz) gestaltet ein musikalisches Programm. \n\n\n\nDas Konzert findet als geschlossene Veranstaltung in der Senioreneinrichtung statt.
URL:https://jkt-sachsen-anhalt.de/veranstaltung/konzert-in-senioreneinrichtung-5/
LOCATION:AWO Seniorenzentrum Halle – Clara-Zetkin-Haus\, Soltauer Strasse 15\, Halle\, 06126
CATEGORIES:Konzert
ATTACH;FMTTYPE=image/jpeg:https://jkt-sachsen-anhalt.de/wp-content/uploads/2023/09/Foto-Duo-Norinski.jpg
END:VEVENT
BEGIN:VEVENT
DTSTART;TZID=Europe/Berlin:20231022T180000
DTEND;TZID=Europe/Berlin:20231022T210000
DTSTAMP:20260420T215844
CREATED:20230829T195102Z
LAST-MODIFIED:20231018T140910Z
UID:10000085-1697997600-1698008400@jkt-sachsen-anhalt.de
SUMMARY:VERSCHOBEN!! Israelabend
DESCRIPTION:Aufgrund der aktuellen Situation muss der Israelabend leider verschoben werden. Ein neuer Termin steht bisher noch nicht fest\, aber wir hoffen\, dass die Veranstaltung in näherer Zukunft stattfinden kann. \n\n\n\nWir halten euch auf dem Laufenden und freuen uns darauf\, euch zu einem späteren Zeitpunkt zu begrüßen. \n\n\n\nDie Veranstaltung findet ganz im Motto des 75-jährigen Bestehens des Staates Israels statt. Neben israelischer Musik der Band L’Chaim erwarten Sie landestypische Snacks und Getränke sowie ein buntes Programm mit spannenden Gesprächen und Darbietungen. \n\n\n\nDie Möglichkeit auf Platzreservierung besteht unter: Reservierungsformular \n\n\n\nDie Übermittlung der Kontaktdaten dient lediglich einer Anfrage für den jeweiligen Termin.Bei Fragen wenden Sie sich an kontakt@jkt-sachsen-anhalt.de
URL:https://jkt-sachsen-anhalt.de/veranstaltung/israelabend/
LOCATION:Capitol Halle\, Lauchstädter Str. 1a\, Halle\, 06110\, Deutschland
CATEGORIES:Konzert
ATTACH;FMTTYPE=image/jpeg:https://jkt-sachsen-anhalt.de/wp-content/uploads/2023/08/LChaim-Band_.jpeg
END:VEVENT
BEGIN:VEVENT
DTSTART;TZID=Europe/Berlin:20231019T160000
DTEND;TZID=Europe/Berlin:20231019T170000
DTSTAMP:20260420T215844
CREATED:20230920T200700Z
LAST-MODIFIED:20230920T200701Z
UID:10000127-1697731200-1697734800@jkt-sachsen-anhalt.de
SUMMARY:Konzert in Senioreneinrichtung
DESCRIPTION:Neben den üblichen Konzerten sollen bei den Jüdischen Kulturtagen Sachsen-Anhalt auch Senior:innen in Senioreneinrichtungen auf ihre Kosten kommen. Das Duo Noirinski bestehend aus Leonid Norinsky (Knopfakkordeon\, Gesang) und Ina Norinska (Percussion\, Gesang\, Tanz) gestaltet ein musikalisches Programm. \n\n\n\nDas Konzert findet als geschlossene Veranstaltung in der Senioreneinrichtung statt.
URL:https://jkt-sachsen-anhalt.de/veranstaltung/konzert-in-senioreneinrichtung-4/
LOCATION:SARA Seniorenresidenzen\, OT Wolfen\, Straße der Republik 4\, Bitterfeld-Wolfen\, 06766
CATEGORIES:Konzert
ATTACH;FMTTYPE=image/jpeg:https://jkt-sachsen-anhalt.de/wp-content/uploads/2023/09/Foto-Duo-Norinski.jpg
END:VEVENT
BEGIN:VEVENT
DTSTART;TZID=Europe/Berlin:20231017T180000
DTEND;TZID=Europe/Berlin:20231017T193000
DTSTAMP:20260420T215844
CREATED:20230829T193306Z
LAST-MODIFIED:20230919T150611Z
UID:10000084-1697565600-1697571000@jkt-sachsen-anhalt.de
SUMMARY:Gespräch mit Landesrabbiner Daniel Fabian & Rebbetzin Fabian
DESCRIPTION:Die Rolle der Frau und Familie im traditionellen Judentum \n\n\n\nSieht das Judentum für die Frau eine bestimmte Rolle vor? Welchen Stellenwert hat die Familie? Können traditionelle Auslegungen von Religion in der modernen Gesellschaft noch bestehen und sogar einen Beitrag leisten? Rebbetzin und Rabbiner Fabian freuen sich auf ein gemeinsames Gespräch.
URL:https://jkt-sachsen-anhalt.de/veranstaltung/gespraech-mit-landesrabbiner-daniel-fabian-rebbetzin-fabian/
LOCATION:Freiwilligen-Agentur Altmark e.V. – Kleine Markthalle\, Hallstraße 49\, Hansestadt Stendal\, 39576
CATEGORIES:Vortrag
ATTACH;FMTTYPE=image/jpeg:https://jkt-sachsen-anhalt.de/wp-content/uploads/2023/08/Rabbiner-und-Rebbetzin-Fabian_Foto-privat.jpeg
END:VEVENT
BEGIN:VEVENT
DTSTART;TZID=Europe/Berlin:20231017T160000
DTEND;TZID=Europe/Berlin:20231017T170000
DTSTAMP:20260420T215844
CREATED:20230920T200250Z
LAST-MODIFIED:20230920T200459Z
UID:10000126-1697558400-1697562000@jkt-sachsen-anhalt.de
SUMMARY:Konzert in Senioreneinrichtung
DESCRIPTION:Neben den üblichen Konzerten sollen bei den Jüdischen Kulturtagen Sachsen-Anhalt auch Senior:innen in Senioreneinrichtungen auf ihre Kosten kommen. Das Duo Noirinski bestehend aus Leonid Norinsky (Knopfakkordeon\, Gesang) und Ina Norinska (Percussion\, Gesang\, Tanz) gestaltet ein musikalisches Programm. \n\n\n\nDas Konzert findet als geschlossene Veranstaltung in der Senioreneinrichtung statt.
URL:https://jkt-sachsen-anhalt.de/veranstaltung/konzert-in-senioreneinrichtung-3/
LOCATION:SARA Seniorenresidenzen\, OT Wolfen\, Straße der Republik 4\, Bitterfeld-Wolfen\, 06766
CATEGORIES:Konzert
ATTACH;FMTTYPE=image/jpeg:https://jkt-sachsen-anhalt.de/wp-content/uploads/2023/09/Foto-Duo-Norinski.jpg
END:VEVENT
BEGIN:VEVENT
DTSTART;TZID=Europe/Berlin:20231016T163000
DTEND;TZID=Europe/Berlin:20231016T173000
DTSTAMP:20260420T215844
CREATED:20230920T195450Z
LAST-MODIFIED:20230920T200019Z
UID:10000125-1697473800-1697477400@jkt-sachsen-anhalt.de
SUMMARY:Konzert in Senioreneinrichtung
DESCRIPTION:Neben den üblichen Konzerten sollen bei den Jüdischen Kulturtagen Sachsen-Anhalt auch Senior:innen in Senioreneinrichtungen auf ihre Kosten kommen. Das Duo Noirinski bestehend aus Leonid Norinsky (Knopfakkordeon\, Gesang) und Ina Norinska (Percussion\, Gesang\, Tanz) gestaltet ein musikalisches Programm. \n\n\n\nDas Konzert findet als geschlossene Veranstaltung in der Senioreneinrichtung statt.
URL:https://jkt-sachsen-anhalt.de/veranstaltung/konzert-in-senioreneinrichtung-2/
LOCATION:AWO Fachkrankenhaus Jerichow\, Johannes-Lange-Straße 20\, Jerichow\, 39319
CATEGORIES:Konzert
ATTACH;FMTTYPE=image/jpeg:https://jkt-sachsen-anhalt.de/wp-content/uploads/2023/09/Foto-Duo-Norinski.jpg
END:VEVENT
BEGIN:VEVENT
DTSTART;TZID=Europe/Berlin:20231016T143000
DTEND;TZID=Europe/Berlin:20231016T153000
DTSTAMP:20260420T215844
CREATED:20230920T195046Z
LAST-MODIFIED:20230920T195047Z
UID:10000124-1697466600-1697470200@jkt-sachsen-anhalt.de
SUMMARY:Konzert in Senioreneinrichtung
DESCRIPTION:Neben den üblichen Konzerten sollen bei den Jüdischen Kulturtagen Sachsen-Anhalt auch Senior:innen in Senioreneinrichtungen auf ihre Kosten kommen. Das Duo Noirinski bestehend aus Leonid Norinsky (Knopfakkordeon\, Gesang) und Ina Norinska (Percussion\, Gesang\, Tanz) gestaltet ein musikalisches Programm.  \n\n\n\nDas Konzert findet als geschlossene Veranstaltung in der Senioreneinrichtung statt.
URL:https://jkt-sachsen-anhalt.de/veranstaltung/konzert-in-senioreneinrichtung/
LOCATION:Johanniter-Krankenhaus\, Wendstraße 31\, Hansestadt Stendal\, 39576
CATEGORIES:Konzert
ATTACH;FMTTYPE=image/jpeg:https://jkt-sachsen-anhalt.de/wp-content/uploads/2023/09/Foto-Duo-Norinski.jpg
END:VEVENT
BEGIN:VEVENT
DTSTART;TZID=Europe/Berlin:20230910T170000
DTEND;TZID=Europe/Berlin:20230910T180000
DTSTAMP:20260420T215844
CREATED:20230901T140344Z
LAST-MODIFIED:20230901T140901Z
UID:10000088-1694365200-1694368800@jkt-sachsen-anhalt.de
SUMMARY:Zohar Lioz-Aviv Solo-Konzert
DESCRIPTION:Zohar Lioz-Aviv\, ein Singer-Songwriter aus Tel-Aviv\, lässt sich von Künstlern wie Bob Dylan und Leonard Cohen inspirieren. Seine Musik zeichnet sich durch einen folkigen Klang aus\, der das Herz berührt. In seinen Liedern singt er sowohl eigene Kompositionen als auch bekannte israelische Stücke von großartigen Künstlern aus verschiedenen Zeiten. Diese Darbietungen werden von ihm auf einer akustischen Gitarre begleitet\, die eine stimmungsvolle Atmosphäre schafft.Das Konzert findet als Abschluss des „Tages des offenen Denkmals“ 2023 im Haus der anderen Nachbarn statt.
URL:https://jkt-sachsen-anhalt.de/veranstaltung/zohar-lioz-aviv-solo-konzert/
LOCATION:Haus der anderen Nachbarn\, Steinstraße 18\, Haldensleben\, 39340
CATEGORIES:Konzert
ATTACH;FMTTYPE=image/jpeg:https://jkt-sachsen-anhalt.de/wp-content/uploads/2023/09/Zohar-Lioz-Aviv_Foto-von-Dani-Luiz.jpeg
END:VEVENT
BEGIN:VEVENT
DTSTART;TZID=Europe/Berlin:20230910T100000
DTEND;TZID=Europe/Berlin:20230910T160000
DTSTAMP:20260420T215844
CREATED:20230725T072353Z
LAST-MODIFIED:20230802T073632Z
UID:10000070-1694340000-1694361600@jkt-sachsen-anhalt.de
SUMMARY:Öffnung des Jüdischen Friedhofes
DESCRIPTION:Mit Claudia Andrae \n\n\n\nIndividuelle Führungen zur Geschichte des Friedhofs und den dort beigesetzten Personen und Familienbiografien. Informationen zu jüdischen Bürgern Ascherslebens\, beigesetzt auf dem Jüdischen Friedhof Berlin-Weißensee. \n\n\n\nEine Anmeldung ist nicht erforderlich.Männliche Besucher müssen auf dem Friedhof eine Kopfbedeckung tragen.
URL:https://jkt-sachsen-anhalt.de/veranstaltung/oeffnung-des-juedischen-friedhofes-6/
LOCATION:Jüdischer Friedhof Aschersleben\, Schmidtmannstraße 35\, Aschersleben\, 06449\, Deutschland
CATEGORIES:Führung
ATTACH;FMTTYPE=image/jpeg:https://jkt-sachsen-anhalt.de/wp-content/uploads/2023/05/JuedFriedASL_Joachim_Grossert-5.jpg
END:VEVENT
BEGIN:VEVENT
DTSTART;TZID=Europe/Berlin:20230820T100000
DTEND;TZID=Europe/Berlin:20230820T160000
DTSTAMP:20260420T215844
CREATED:20230725T072318Z
LAST-MODIFIED:20230802T073324Z
UID:10000069-1692525600-1692547200@jkt-sachsen-anhalt.de
SUMMARY:Öffnung des Jüdischen Friedhofes
DESCRIPTION:Mit Claudia Andrae \n\n\n\nIndividuelle Führungen zur Geschichte des Friedhofs und den dort beigesetzten Personen und Familienbiografien. Informationen zu jüdischen Bürgern Ascherslebens\, beigesetzt auf dem Jüdischen Friedhof Berlin-Weißensee. \n\n\n\nEine Anmeldung ist nicht erforderlich.Männliche Besucher müssen auf dem Friedhof eine Kopfbedeckung tragen.
URL:https://jkt-sachsen-anhalt.de/veranstaltung/oeffnung-des-juedischen-friedhofes-5/
LOCATION:Jüdischer Friedhof Aschersleben\, Schmidtmannstraße 35\, Aschersleben\, 06449\, Deutschland
CATEGORIES:Führung
ATTACH;FMTTYPE=image/jpeg:https://jkt-sachsen-anhalt.de/wp-content/uploads/2023/05/JuedFriedASL_Joachim_Grossert-5.jpg
END:VEVENT
END:VCALENDAR