BEGIN:VCALENDAR
VERSION:2.0
PRODID:-//Jüdische Kultur Sachsen-Anhalt - ECPv6.15.20//NONSGML v1.0//EN
CALSCALE:GREGORIAN
METHOD:PUBLISH
X-WR-CALNAME:Jüdische Kultur Sachsen-Anhalt
X-ORIGINAL-URL:https://jkt-sachsen-anhalt.de
X-WR-CALDESC:Veranstaltungen für Jüdische Kultur Sachsen-Anhalt
REFRESH-INTERVAL;VALUE=DURATION:PT1H
X-Robots-Tag:noindex
X-PUBLISHED-TTL:PT1H
BEGIN:VTIMEZONE
TZID:Europe/Berlin
BEGIN:DAYLIGHT
TZOFFSETFROM:+0100
TZOFFSETTO:+0200
TZNAME:CEST
DTSTART:20240331T010000
END:DAYLIGHT
BEGIN:STANDARD
TZOFFSETFROM:+0200
TZOFFSETTO:+0100
TZNAME:CET
DTSTART:20241027T010000
END:STANDARD
BEGIN:DAYLIGHT
TZOFFSETFROM:+0100
TZOFFSETTO:+0200
TZNAME:CEST
DTSTART:20250330T010000
END:DAYLIGHT
BEGIN:STANDARD
TZOFFSETFROM:+0200
TZOFFSETTO:+0100
TZNAME:CET
DTSTART:20251026T010000
END:STANDARD
BEGIN:DAYLIGHT
TZOFFSETFROM:+0100
TZOFFSETTO:+0200
TZNAME:CEST
DTSTART:20260329T010000
END:DAYLIGHT
BEGIN:STANDARD
TZOFFSETFROM:+0200
TZOFFSETTO:+0100
TZNAME:CET
DTSTART:20261025T010000
END:STANDARD
END:VTIMEZONE
BEGIN:VEVENT
DTSTART;TZID=Europe/Berlin:20250805T190000
DTEND;TZID=Europe/Berlin:20250905T170000
DTSTAMP:20260420T072143
CREATED:20250805T124037Z
LAST-MODIFIED:20250805T124039Z
UID:10000179-1754420400-1757091600@jkt-sachsen-anhalt.de
SUMMARY:Ausstellung „Als Jüd:innen markiert und verfolgt. Jüdische Identitäten und NS-Tatorte in Sachsen-Anhalt“ 
DESCRIPTION:Zwölf unterschiedliche Persönlichkeiten\, zwölf individuelle Perspektiven auf die eigene jüdische Identität\, zwölf vom Nationalsozialismus gezeichnete Lebenswege – Im Fokus der Wanderausstellung der Stiftung Gedenkstätten Sachsen-Anhalt stehen Menschen\, die von den Nationalsozialisten als jüdisch markiert und als Konsequenz daraus gewaltsam aus der sogenannten Volksgemeinschaft ausgeschlossen wurden. Zudem geht eine Einordnung und Vorstellung der sechs Tatorte und heutigen Gedenkstätten Lichtenburg\, Bernburg\, Langenstein\, Gardelegen\, Roter Ochse Halle und Moritzplatz Magdeburg damit einher\, um deutlich zu machen\, dass die nationalsozialistischen Verbrechen nicht nur fern im Osten stattfanden\, sondern direkt vor der Haustür\, in der eigenen Nachbarschaft. \n\n\n\nDie Ausstellung wird vom 5. August bis zum 5. September 2025 im Dessauer Logenhaus (Ferdinand-von-Schill-Straße 7\, 06844 Dessau-Roßlau) zu sehen sein. Im Rahmen des Begleitprogramms bieten wir am Mittwoch\, dem 13. August\, um 17:30 Uhr und am Donnerstag\, dem 4. September\, um 14:00 Uhr eine Kuratorinnenführung durch die Ausstellung an. \n\n\n\nBitte beachten Sie unseren Veranstaltungscodex\, der für alle Veranstaltungen der Gedenkstätte KZ Lichtenburg Prettin und der Partnerschaft für Demokratie im Landkreis Wittenberg gilt. 
URL:https://jkt-sachsen-anhalt.de/veranstaltung/ausstellung-als-juedinnen-markiert-und-verfolgt-juedische-identitaeten-und-ns-tatorte-in-sachsen-anhalt/
LOCATION:https://logenhaus-dessau.de/\, Ferdinand-von-Schill-Str. 7\, Magdeburg\, 06844\, Deutschland
ATTACH;FMTTYPE=application/pdf:https://jkt-sachsen-anhalt.de/wp-content/uploads/2025/08/Als-Juedinnen-markiert-und-verfolgt_Veranstaltungsplakat.pdf
END:VEVENT
BEGIN:VEVENT
DTSTART;TZID=Europe/Berlin:20250907T100000
DTEND;TZID=Europe/Berlin:20250907T160000
DTSTAMP:20260420T072143
CREATED:20250731T115937Z
LAST-MODIFIED:20250731T120240Z
UID:10000178-1757239200-1757260800@jkt-sachsen-anhalt.de
SUMMARY:Führungen zur Geschichte des Friedhofs und zum Sanierungsprojekt der Grabstätten
DESCRIPTION:Der jüdische Friedhof ist mit seinen Grabstätten\, seiner parkähnlichen Struktur und historischen Wegestruktur seit 1988 denkmalgeschützt. Heute befindet sich das Friedhofsgrundstück insgesamt in einem schlechten Erhaltungszustand. Ein großer Teil der Grabmale ist vom Verfall gezeichnet. Durch das Projekt „Neugestaltung des Standorts der zerstörten Aussegnungshalle“ des Vereins Niemand wird vergessen e.V. konnte die verwilderte Teilfläche wieder in einen gepflegten Zustand versetzt und mit Rasen begrünt werden. Hier soll unter Beratung der Bet Tfila-Forschungsstelle an der TU Braunschweig ein Gedenk- und Erinnerungsort entstehen. \n\n\n\nDas Projekt „Sanierung und Wiederherstellung der Grabstätten des jüdischen Friedhofs in Aschersleben“ wird gefördert durch das Land Sachsen-Anhalt und die Deutsche Stiftung Denkmalschutz. \n\n\n\nDie Führungen sind kostenlos. Es wird um Spenden für den Erhalt des Friedhofs gebeten. Männliche Besucher werden gebeten\, auf dem Friedhof eine Kopfbedeckung zu tragen.
URL:https://jkt-sachsen-anhalt.de/veranstaltung/fuehrungen-zur-geschichte-des-friedhofs-und-zum-sanierungsprojekt-der-grabstaetten-2/
LOCATION:Jüdischer Friedhof Aschersleben\, Schmidtmannstraße 35\, Aschersleben\, 06449\, Deutschland
ATTACH;FMTTYPE=image/jpeg:https://jkt-sachsen-anhalt.de/wp-content/uploads/2025/07/Grabstein-Adolph-Cohn.jpg
END:VEVENT
END:VCALENDAR