BEGIN:VCALENDAR
VERSION:2.0
PRODID:-//Jüdische Kultur Sachsen-Anhalt - ECPv6.15.20//NONSGML v1.0//EN
CALSCALE:GREGORIAN
METHOD:PUBLISH
X-ORIGINAL-URL:https://jkt-sachsen-anhalt.de
X-WR-CALDESC:Veranstaltungen für Jüdische Kultur Sachsen-Anhalt
REFRESH-INTERVAL;VALUE=DURATION:PT1H
X-Robots-Tag:noindex
X-PUBLISHED-TTL:PT1H
BEGIN:VTIMEZONE
TZID:Europe/Berlin
BEGIN:DAYLIGHT
TZOFFSETFROM:+0100
TZOFFSETTO:+0200
TZNAME:CEST
DTSTART:20240331T010000
END:DAYLIGHT
BEGIN:STANDARD
TZOFFSETFROM:+0200
TZOFFSETTO:+0100
TZNAME:CET
DTSTART:20241027T010000
END:STANDARD
BEGIN:DAYLIGHT
TZOFFSETFROM:+0100
TZOFFSETTO:+0200
TZNAME:CEST
DTSTART:20250330T010000
END:DAYLIGHT
BEGIN:STANDARD
TZOFFSETFROM:+0200
TZOFFSETTO:+0100
TZNAME:CET
DTSTART:20251026T010000
END:STANDARD
BEGIN:DAYLIGHT
TZOFFSETFROM:+0100
TZOFFSETTO:+0200
TZNAME:CEST
DTSTART:20260329T010000
END:DAYLIGHT
BEGIN:STANDARD
TZOFFSETFROM:+0200
TZOFFSETTO:+0100
TZNAME:CET
DTSTART:20261025T010000
END:STANDARD
END:VTIMEZONE
BEGIN:VEVENT
DTSTART;TZID=Europe/Berlin:20250706T100000
DTEND;TZID=Europe/Berlin:20250706T160000
DTSTAMP:20260422T003808
CREATED:20250616T181615Z
LAST-MODIFIED:20250616T181618Z
UID:10000171-1751796000-1751817600@jkt-sachsen-anhalt.de
SUMMARY:Gedenk- und Erinnerungsort – Jüdischer Friedhof Aschersleben
DESCRIPTION:Erleben Sie jüdische Geschichte und Kultur vor Ort: Der Jüdische Friedhof in Aschersleben öffnet auch 2025 regelmäßig seine Tore für Besucherinnen und Besucher. Im Rahmen von Führungen und thematischen Veranstaltungen erhalten Sie spannende Einblicke in die Geschichte der Grabstätten\, jüdischer Gemeinden sowie der regionalen Kultur. \n\n\n\n🗓 Termine 2025 – Friedhofsöffnungen & Führungen \n\n\n\n So\, 06.07.2025 | 10:00–16:00 Uhr \n\n\n\nSo\, 07.09.2025 | 10:00–16:00 Uhr \n\n\n\n So\, 28.09.2025 | 10:00–16:00 Uhr (Projekt „KinderGedenktage“\, 01.10. – 02.11.2025) \n\n\n\n • Weitere Termine folgen. \n\n\n\n💬 Thematische Führungen \n\n\n\n • 09.11.2025 | 10:00 & 14:00 Uhr (Jahrestag der Novemberpogrome – Geschichte des jüdischen Friedhofs ab 1938) \n\n\n\nFührungen zu weiteren Terminen sind auf Anfrage für Gruppen und Einzelpersonen möglich. \n\n\n\n👉 Anmeldung & Kontakt: \n\n\n\nClaudia.Andraetz@t-online.de \n\n\n\nTel: 03473-9143026 | Mobil: 0160-98472834 \n\n\n\n📍 Veranstaltungsort \n\n\n\nJüdischer Friedhof Aschersleben \n\n\n\nStadtweg 35\, 06449 Aschersleben \n\n\n\n⸻ \n\n\n\nℹ️ Hintergrund \n\n\n\nDer Jüdische Friedhof in Aschersleben wurde 1988 unter Denkmalschutz gestellt. Er erzählt die Geschichte der jüdischen Gemeinde der Region – ein Ort der Erinnerung\, Forschung und Kultur.
URL:https://jkt-sachsen-anhalt.de/veranstaltung/gedenk-und-erinnerungsort-juedischer-friedhof-aschersleben/
ATTACH;FMTTYPE=image/jpeg:https://jkt-sachsen-anhalt.de/wp-content/uploads/2025/06/IMAGE-2025-06-16-201029.jpg
END:VEVENT
BEGIN:VEVENT
DTSTART;TZID=Europe/Berlin:20250722T190000
DTEND;TZID=Europe/Berlin:20250722T210000
DTSTAMP:20260422T003808
CREATED:20250715T114340Z
LAST-MODIFIED:20250715T114343Z
UID:10000173-1753210800-1753218000@jkt-sachsen-anhalt.de
SUMMARY:Sommerkonzert mit „Baymele“
DESCRIPTION:🎶 Sommerkonzert „Baymele“ in Halberstadt 🎶 \n\n\n\nTauche ein in die bewegende Welt der jüdischen Musiktradition! \n\n\n\nIm Rahmen des Projekts „Jüdische Kultur in Sachsen-Anhalt“ laden die Moses Mendelssohn Akademie im Berend Lehmann Museum und der Landesverband Jüdischer Gemeinden Sachsen-Anhalt herzlich ein zum: \n\n\n\n✨ Sommerkonzert „Baymele“ ✨ \n\n\n\n📅 Dienstag\, 22. Juli 2025 \n\n\n\n🕖 Beginn: 19:00 Uhr \n\n\n\n📍 Berend Lehmann Museum\, Rosenwinkel 18\, Halberstadt \n\n\n\n🎟️ Eintritt: 10 € \n\n\n\nDas Duo Baymele („Bäumchen“) begeistert mit einer gefühlvollen Mischung aus Klezmer\, jiddischen Liedern und osteuropäischen Melodien – lebendig\, tief berührend und voller Seele. \n\n\n\nEin Abend voller Klang\, Emotion und kultureller Vielfalt. Nicht verpassen!
URL:https://jkt-sachsen-anhalt.de/veranstaltung/sommerkonzert-mit-baymele/
ATTACH;FMTTYPE=application/pdf:https://jkt-sachsen-anhalt.de/wp-content/uploads/2025/07/Plakat-Veranstaltungen-BLM-Entwurf-22.07.2025.pdf
END:VEVENT
BEGIN:VEVENT
DTSTART;TZID=Europe/Berlin:20250730T130000
DTEND;TZID=Europe/Berlin:20250824T130000
DTSTAMP:20260422T003808
CREATED:20250724T133911Z
LAST-MODIFIED:20250724T180354Z
UID:10000174-1753880400-1756040400@jkt-sachsen-anhalt.de
SUMMARY:Ausstellung „Zwischen Erfolg und Verfolgung – Jüdische Stars im deutschen Sport
DESCRIPTION:Die Eröffnung der Ausstellung findet am 30.07.2025 um 13 Uhr auf dem Holzmarkt in Halberstadt \n\n\n\n\n\nJued_Sport_Plak_A3_Zwischen Erfolg und Verfolgung – 30.7.-23.8.2025Herunterladen\n\n\n\nwir möchten Sie auf die Ausstellung „Zwischen Erfolg und Verfolgung – Jüdische Stars im deutschen Sport bis 1933 und danach“aufmerksam machen\, die vom 30.07. bis 23.08.2025 auf dem Holzmarkt in Halberstadt zu sehen sein wird.  \n\n\n\nDie Ausstellung in Halberstadt wird veranstaltet durch das Zentrum deutsche Sportgeschichte e.V. \n\n\n\nund den Landesverband Jüdischer Gemeinden Sachsen-Anhalt K.d.ö.R. In Kooperation mit der \n\n\n\nStadt Halberstadt\, dem Berend Lehmann Museum \n\n\n\nfür jüdische Geschichte und Kultur\, der Moses Mendelssohn Akademie und \n\n\n\ndem Landessportbund Sachsen-Anhalt. \n\n\n\nInitiiert\, konzipiert und finanziert wurde und wird die Ausstellung durch die DFB-Kulturstiftung\, die \n\n\n\nBeauftragte der Bundesregierung für Kultur und Medien (BKM) und den Deutschen Olympischen \n\n\n\nSportbund (DOSB). Die aus Anlass der European Maccabi Games 2015 in Berlin erstmals gezeigte \n\n\n\nAusstellung wurde zudem durch die Stiftung „Erinnerung\, Verantwortung und Zukunft“ (EVZ) und \n\n\n\ndie Deutsche Bahn Stiftung gefördert. \n\n\n\nIdee und Konzept: Norbert Niclauss (BKM) und Olliver Tietz (DFB-Kulturstiftung). Autoren: Dr. Berno \n\n\n\nBahro\, Prof. Dr. Hans Joachim Teichler (beide Potsdam)\, Prof. Dr. Lorenz Peiffer (Hannover) sowie \n\n\n\nDr. Henry Wahlig (Dortmund). \n\n\n\nDie Ausstellung ist zweisprachig (deutsch/englisch) und über QR-Codes mit einer Online- \n\n\n\nAusstellung verknüpft\, auf der ergänzende Texte und Fotos ausführlich die jüdische Geschichte \n\n\n\ndes deutschen Sports dokumentieren: www.juedische-sportstars.de \n\n\n\nAnfragen zu pädagogischen Angeboten und Führungen zur Ausstellung für diverse Zielgruppen \n\n\n\nkönnen an das Berend Lehmann Museum für jüdische Geschichte und Kultur gerichtet werden.
URL:https://jkt-sachsen-anhalt.de/veranstaltung/ausstellung-zwischen-erfolg-und-verfolgung-juedische-stars-im-deutschen-sport/
ATTACH;FMTTYPE=application/pdf:https://jkt-sachsen-anhalt.de/wp-content/uploads/2025/07/Jued_Sport_Plak_A3_Zwischen-Erfolg-und-Verfolgung-30.7.-23.8.2025-1.pdf
END:VEVENT
BEGIN:VEVENT
DTSTART;TZID=Europe/Berlin:20250731T100000
DTEND;TZID=Europe/Berlin:20250731T120000
DTSTAMP:20260422T003808
CREATED:20250729T103957Z
LAST-MODIFIED:20250729T104039Z
UID:10000175-1753956000-1753963200@jkt-sachsen-anhalt.de
SUMMARY:GEMEINSAM ESSEN UND REDEN - EIN VORMITTAG ZUM SCHABBAT
DESCRIPTION:FERIENANGEBOT \n\n\n\n \n\n\n\nKennst du den jüdischen Ruhetag Schabbat? Wie an vielen jüdischen Feiertagen ist auch hier das gemeinsame Essen wichtig. Wir backen zusammen leckere Challa-Brote und genießen sie anschließend im Garten. Außerdem sprechen wir darüber\, was den Schabbat so besonders macht und welche Traditionen es gibt. \n\n\n\nDo\, 31.07.2025\, 10-12 Uhr \n\n\n\n \n\n\n\nWer? Kinder von 5-12 Jahren Wo: Berend Lehmann Museum\, Rosenwinkel 18\, 38820 Halberstadt
URL:https://jkt-sachsen-anhalt.de/veranstaltung/gemeinsam-essen-und-reden-ein-vormittag-zum-schabbat/
LOCATION:Berend Lehmann Museum\, Rosenwinkel 18\, Halberstadt\, 38820\, Deutschland
ATTACH;FMTTYPE=image/jpeg:https://jkt-sachsen-anhalt.de/wp-content/uploads/2025/07/Ferienangebot-2025-BLM-Instagram-Post-45-1.jpg
END:VEVENT
END:VCALENDAR