BEGIN:VCALENDAR
VERSION:2.0
PRODID:-//Jüdische Kultur Sachsen-Anhalt - ECPv6.15.20//NONSGML v1.0//EN
CALSCALE:GREGORIAN
METHOD:PUBLISH
X-WR-CALNAME:Jüdische Kultur Sachsen-Anhalt
X-ORIGINAL-URL:https://jkt-sachsen-anhalt.de
X-WR-CALDESC:Veranstaltungen für Jüdische Kultur Sachsen-Anhalt
REFRESH-INTERVAL;VALUE=DURATION:PT1H
X-Robots-Tag:noindex
X-PUBLISHED-TTL:PT1H
BEGIN:VTIMEZONE
TZID:Europe/Berlin
BEGIN:DAYLIGHT
TZOFFSETFROM:+0100
TZOFFSETTO:+0200
TZNAME:CEST
DTSTART:20240331T010000
END:DAYLIGHT
BEGIN:STANDARD
TZOFFSETFROM:+0200
TZOFFSETTO:+0100
TZNAME:CET
DTSTART:20241027T010000
END:STANDARD
BEGIN:DAYLIGHT
TZOFFSETFROM:+0100
TZOFFSETTO:+0200
TZNAME:CEST
DTSTART:20250330T010000
END:DAYLIGHT
BEGIN:STANDARD
TZOFFSETFROM:+0200
TZOFFSETTO:+0100
TZNAME:CET
DTSTART:20251026T010000
END:STANDARD
BEGIN:DAYLIGHT
TZOFFSETFROM:+0100
TZOFFSETTO:+0200
TZNAME:CEST
DTSTART:20260329T010000
END:DAYLIGHT
BEGIN:STANDARD
TZOFFSETFROM:+0200
TZOFFSETTO:+0100
TZNAME:CET
DTSTART:20261025T010000
END:STANDARD
END:VTIMEZONE
BEGIN:VEVENT
DTSTART;TZID=Europe/Berlin:20250923T110000
DTEND;TZID=Europe/Berlin:20250923T140000
DTSTAMP:20260420T072906
CREATED:20250923T173906Z
LAST-MODIFIED:20250923T173907Z
UID:10000189-1758625200-1758636000@jkt-sachsen-anhalt.de
SUMMARY:In Wörlitz – Toleranz mit Franz 
DESCRIPTION:Führung von der Synagoge im Park zur Gedenkstätte \n\n\n\nmit der Cohen Gesellschaft Coswig e.V. \n\n\n\nFührung: Dietrich Bungeroth
URL:https://jkt-sachsen-anhalt.de/veranstaltung/in-woerlitz-toleranz-mit-franz-2/
ATTACH;FMTTYPE=image/jpeg:https://jkt-sachsen-anhalt.de/wp-content/uploads/2025/09/14.2-Woerlitz.jpg
END:VEVENT
END:VCALENDAR