BEGIN:VCALENDAR
VERSION:2.0
PRODID:-//Jüdische Kultur Sachsen-Anhalt - ECPv6.15.20//NONSGML v1.0//EN
CALSCALE:GREGORIAN
METHOD:PUBLISH
X-WR-CALNAME:Jüdische Kultur Sachsen-Anhalt
X-ORIGINAL-URL:https://jkt-sachsen-anhalt.de
X-WR-CALDESC:Veranstaltungen für Jüdische Kultur Sachsen-Anhalt
REFRESH-INTERVAL;VALUE=DURATION:PT1H
X-Robots-Tag:noindex
X-PUBLISHED-TTL:PT1H
BEGIN:VTIMEZONE
TZID:Europe/Berlin
BEGIN:DAYLIGHT
TZOFFSETFROM:+0100
TZOFFSETTO:+0200
TZNAME:CEST
DTSTART:20240331T010000
END:DAYLIGHT
BEGIN:STANDARD
TZOFFSETFROM:+0200
TZOFFSETTO:+0100
TZNAME:CET
DTSTART:20241027T010000
END:STANDARD
BEGIN:DAYLIGHT
TZOFFSETFROM:+0100
TZOFFSETTO:+0200
TZNAME:CEST
DTSTART:20250330T010000
END:DAYLIGHT
BEGIN:STANDARD
TZOFFSETFROM:+0200
TZOFFSETTO:+0100
TZNAME:CET
DTSTART:20251026T010000
END:STANDARD
BEGIN:DAYLIGHT
TZOFFSETFROM:+0100
TZOFFSETTO:+0200
TZNAME:CEST
DTSTART:20260329T010000
END:DAYLIGHT
BEGIN:STANDARD
TZOFFSETFROM:+0200
TZOFFSETTO:+0100
TZNAME:CET
DTSTART:20261025T010000
END:STANDARD
END:VTIMEZONE
BEGIN:VEVENT
DTSTART;TZID=Europe/Berlin:20250914T140000
DTEND;TZID=Europe/Berlin:20250914T170000
DTSTAMP:20260420T022130
CREATED:20250820T120112Z
LAST-MODIFIED:20250827T112542Z
UID:10000183-1757858400-1757869200@jkt-sachsen-anhalt.de
SUMMARY:MUSIK VERBINDET!
DESCRIPTION:INTERCULTURAL DIALOGUE – JEWISH MUSIC IN EUROPE \n\n\n\nIN CONVERSATION WITH EUROPEAN COMPOSERS \n\n\n\nim Ramen European Days of Jewish Culture \n\n\n\n\n\nAm 14. September feiern wir den Internationalen Tag der Jüdischen \n\n\n\nKultur mit einem besonderen Kinderkonzert in der Neuen Synagoge Magdeburg. \n\n\n\nJunge Talente schenken uns Musik voller Farben – von jüdischen \n\n\n\nMelodien bis hin zu europäischen Klängen. \n\n\n\nEs musizieren: \n\n\n\nKhalida Fradkin (Piano\, künstlerische Leitung) \n\n\n\nVera Kagan (Violine) \n\n\n\nEin Nachmittag für die Seele – voller Musik\, Begegnung und Wärme \n\n\n\nDie Veranstaltung ist Teil der Initiative „Städte\, die das jüdische Erbe bewahren“\, die von CAM und AEPJ unterstützt wird. \n\n\n\n\nAEPJ:\n\nFacebook\n\n\n\n\n\nCAM:\n\nFacebook\n\n\n\n\n\n\nanmeldung anmeldung@sg-md.org \n\n\n\n \n\n\n\nVeranstalter: \n\n\n\nStadt Magdeburg \n\n\n\nLandesverband Jüdischer Gemeinden Sachsen-Anhalt \n\n\n\nSynagogen-Gemeinde zu Magdeburg \n\n\n\nin Kooperation mit der Musikschule Wolmirstedt-Haldensleben
URL:https://jkt-sachsen-anhalt.de/veranstaltung/musik-verbindet/
LOCATION:Julius-Bremer-Straße 5\, Julius-Bremer-Straße 5\, Magdeburg\, 39104\, Deutschland
ATTACH;FMTTYPE=image/jpeg:https://jkt-sachsen-anhalt.de/wp-content/uploads/2025/08/Konzert_14.09.25-1.jpg
END:VEVENT
END:VCALENDAR